BEGIN:VCALENDAR
VERSION:2.0
PRODID:-//MMC-Agentur//Calendar Link//DE
CALSCALE:GREGORIAN
METHOD:PUBLISH
BEGIN:VEVENT
UID:event-46@bvo-akademie.tld
DTSTAMP:20260424T232418Z
DTSTART:20270408T220000Z
DTEND:20270410T220000Z
SUMMARY:Wechseljahre und healthy aging
STATUS:CONFIRMED
SEQUENCE:0
END:VEVENT
END:VCALENDAR