BEGIN:VCALENDAR
VERSION:2.0
PRODID:-//MMC-Agentur//Calendar Link//DE
CALSCALE:GREGORIAN
METHOD:PUBLISH
BEGIN:VEVENT
UID:event-37@bvo-akademie.tld
DTSTAMP:20260424T220452Z
DTSTART:20260716T220000Z
DTEND:20260718T220000Z
SUMMARY:Endometriose & Urogenitaltrakt – Ganzheitliche osteopathische Therapieansätze
STATUS:CONFIRMED
SEQUENCE:0
END:VEVENT
END:VCALENDAR