BEGIN:VCALENDAR
VERSION:2.0
PRODID:-//MMC-Agentur//Calendar Link//DE
CALSCALE:GREGORIAN
METHOD:PUBLISH
BEGIN:VEVENT
UID:event-38@bvo-akademie.tld
DTSTAMP:20260424T215224Z
DTSTART:20260507T220000Z
DTEND:20260509T220000Z
SUMMARY:Der M. Iliopsoas aus Sicht der neurovaskulären Therapie
STATUS:CONFIRMED
SEQUENCE:0
END:VEVENT
END:VCALENDAR