BEGIN:VCALENDAR
VERSION:2.0
PRODID:-//MMC-Agentur//Calendar Link//DE
CALSCALE:GREGORIAN
METHOD:PUBLISH
BEGIN:VEVENT
UID:event-40@bvo-akademie.tld
DTSTAMP:20260424T221437Z
DTSTART:20260428T220000Z
DTEND:20260428T220000Z
SUMMARY:Darm & Diagnostik verstehen – Mikrobiom-Basics für Osteopathen
STATUS:CONFIRMED
SEQUENCE:0
END:VEVENT
END:VCALENDAR